BEGIN:VCALENDAR
VERSION:2.0
PRODID:-//Boere Blaos Kapel - ECPv6.15.20//NONSGML v1.0//EN
CALSCALE:GREGORIAN
METHOD:PUBLISH
X-WR-CALNAME:Boere Blaos Kapel
X-ORIGINAL-URL:https://boereblaoskapel.nl
X-WR-CALDESC:Evenementen voor Boere Blaos Kapel
REFRESH-INTERVAL;VALUE=DURATION:PT1H
X-Robots-Tag:noindex
X-PUBLISHED-TTL:PT1H
BEGIN:VTIMEZONE
TZID:UTC
BEGIN:STANDARD
TZOFFSETFROM:+0000
TZOFFSETTO:+0000
TZNAME:UTC
DTSTART:20230101T000000
END:STANDARD
END:VTIMEZONE
BEGIN:VEVENT
DTSTART;TZID=UTC:20240914T080000
DTEND;TZID=UTC:20240914T170000
DTSTAMP:20260422T150101
CREATED:20240606T141212Z
LAST-MODIFIED:20240606T141331Z
UID:8255-1726300800-1726333200@boereblaoskapel.nl
SUMMARY:Zaterdag 14 september 2024: Brunch schutterij Puth
DESCRIPTION:
URL:https://boereblaoskapel.nl/agenda/zaterdag-14-september-2024-brunch-schutterij-puth/
END:VEVENT
END:VCALENDAR