BEGIN:VCALENDAR
VERSION:2.0
PRODID:-//Boere Blaos Kapel - ECPv6.15.20//NONSGML v1.0//EN
CALSCALE:GREGORIAN
METHOD:PUBLISH
X-WR-CALNAME:Boere Blaos Kapel
X-ORIGINAL-URL:https://boereblaoskapel.nl
X-WR-CALDESC:Evenementen voor Boere Blaos Kapel
REFRESH-INTERVAL;VALUE=DURATION:PT1H
X-Robots-Tag:noindex
X-PUBLISHED-TTL:PT1H
BEGIN:VTIMEZONE
TZID:UTC
BEGIN:STANDARD
TZOFFSETFROM:+0000
TZOFFSETTO:+0000
TZNAME:UTC
DTSTART:20140101T000000
END:STANDARD
END:VTIMEZONE
BEGIN:VEVENT
DTSTART;TZID=UTC:20151125T200000
DTEND;TZID=UTC:20151125T211500
DTSTAMP:20260420T163847
CREATED:20150117T112814Z
LAST-MODIFIED:20151104T055519Z
UID:4331-1448481600-1448486100@boereblaoskapel.nl
SUMMARY:woensdag 25 november 2015: Beek; Vrijwilligersavond gemeente Beek
DESCRIPTION:
URL:https://boereblaoskapel.nl/agenda/woensdag-25-november-2015-beek-vrijwilligersavond-gemeente-beek/
LOCATION:Astra Theater\, Beek
END:VEVENT
END:VCALENDAR