BEGIN:VCALENDAR
VERSION:2.0
PRODID:-//Boere Blaos Kapel - ECPv6.15.20//NONSGML v1.0//EN
CALSCALE:GREGORIAN
METHOD:PUBLISH
X-ORIGINAL-URL:https://boereblaoskapel.nl
X-WR-CALDESC:Evenementen voor Boere Blaos Kapel
REFRESH-INTERVAL;VALUE=DURATION:PT1H
X-Robots-Tag:noindex
X-PUBLISHED-TTL:PT1H
BEGIN:VTIMEZONE
TZID:UTC
BEGIN:STANDARD
TZOFFSETFROM:+0000
TZOFFSETTO:+0000
TZNAME:UTC
DTSTART:20230101T000000
END:STANDARD
END:VTIMEZONE
BEGIN:VEVENT
DTSTART;TZID=UTC:20241019T200000
DTEND;TZID=UTC:20241019T210000
DTSTAMP:20260422T115038
CREATED:20240917T071108Z
LAST-MODIFIED:20240917T071108Z
UID:8269-1729368000-1729371600@boereblaoskapel.nl
SUMMARY:Zaterdag 19 oktober 2024: Tiroler avond Schin op Geul
DESCRIPTION:
URL:https://boereblaoskapel.nl/agenda/zaterdag-19-oktober-2024-tiroler-avond-schin-op-geul/
END:VEVENT
END:VCALENDAR