BEGIN:VCALENDAR
VERSION:2.0
PRODID:-//Boere Blaos Kapel - ECPv6.15.20//NONSGML v1.0//EN
CALSCALE:GREGORIAN
METHOD:PUBLISH
X-WR-CALNAME:Boere Blaos Kapel
X-ORIGINAL-URL:https://boereblaoskapel.nl
X-WR-CALDESC:Evenementen voor Boere Blaos Kapel
REFRESH-INTERVAL;VALUE=DURATION:PT1H
X-Robots-Tag:noindex
X-PUBLISHED-TTL:PT1H
BEGIN:VTIMEZONE
TZID:UTC
BEGIN:STANDARD
TZOFFSETFROM:+0000
TZOFFSETTO:+0000
TZNAME:UTC
DTSTART:20230101T000000
END:STANDARD
END:VTIMEZONE
BEGIN:VEVENT
DTSTART;TZID=UTC:20241103T140000
DTEND;TZID=UTC:20241103T170000
DTSTAMP:20260422T101647
CREATED:20240801T131440Z
LAST-MODIFIED:20240801T131440Z
UID:8267-1730642400-1730653200@boereblaoskapel.nl
SUMMARY:Zondag 3 november 2024: Kapellentreffen Knegsel
DESCRIPTION:Gemeenschapshuis Leenhoef\nSteenselseweg 8a\n5511 AG Knegsel\n(Die Edelweiss kapelle)
URL:https://boereblaoskapel.nl/agenda/zondag-3-november-2024-kapellentreffen-knegsel/
END:VEVENT
END:VCALENDAR